BEGIN:VCALENDAR
VERSION:2.0
PRODID:-//FRCQ | Art Quilters - ECPv6.15.17.1//NONSGML v1.0//EN
CALSCALE:GREGORIAN
METHOD:PUBLISH
X-ORIGINAL-URL:https://www.artquilters.org
X-WR-CALDESC:Events for FRCQ | Art Quilters
REFRESH-INTERVAL;VALUE=DURATION:PT1H
X-Robots-Tag:noindex
X-PUBLISHED-TTL:PT1H
BEGIN:VTIMEZONE
TZID:UTC
BEGIN:STANDARD
TZOFFSETFROM:+0000
TZOFFSETTO:+0000
TZNAME:UTC
DTSTART:20240101T000000
END:STANDARD
END:VTIMEZONE
BEGIN:VEVENT
DTSTART;TZID=UTC:20250307T190000
DTEND;TZID=UTC:20250307T200000
DTSTAMP:20260424T151718
CREATED:20250102T020553Z
LAST-MODIFIED:20250102T021008Z
UID:39860-1741374000-1741377600@www.artquilters.org
SUMMARY:Book Club
DESCRIPTION:On Friday March 7th we will discuss “Broad Strokes” by Bridget Quinn\, illustrated by Lisa Congdon. (15 Women Who Made Art and Made History) \nTo join our book club\, please contact jofitsell@gmail.com and she will send out the Zoom Link. 
URL:https://www.artquilters.org/event/book-club/
CATEGORIES:Events
END:VEVENT
BEGIN:VEVENT
DTSTART;TZID=UTC:20250315T120000
DTEND;TZID=UTC:20250315T150000
DTSTAMP:20260424T151718
CREATED:20241121T233444Z
LAST-MODIFIED:20250304T180418Z
UID:39804-1742040000-1742050800@www.artquilters.org
SUMMARY:Mini-Retreat
DESCRIPTION:Mini-Retreat on Saturday\, March 15\, 2025\, 12:00 to 3:00 pm\nBoy Scouts of America – 10455 E 6th Ave\, Lakewood \nLet’s gather again for a chance to meet in person and enjoy visiting and sharing our work!! Bring whatever you want to work on. \nCome enjoy some camaraderie with friends! \nBarb Olson will do a demonstration at the March 15 mini-retreat using fabric paints by Pebeo\, called Seta Color Transparent paint. Barb will show many simple techniques to create unique print\, patterns\, and watercolor effects. She will bring supplies if you want to create a small piece to take home\, or you can just enjoy watching! Please let Barb know by email if you plan to attend. barbolson1949@gmail.com
URL:https://www.artquilters.org/event/mini-retreat-8/
CATEGORIES:Events
END:VEVENT
BEGIN:VEVENT
DTSTART;TZID=UTC:20250317T190000
DTEND;TZID=UTC:20250317T210000
DTSTAMP:20260424T151718
CREATED:20241104T000850Z
LAST-MODIFIED:20241104T000850Z
UID:39721-1742238000-1742245200@www.artquilters.org
SUMMARY:FRCQ General Meeting
DESCRIPTION:Heather Pregger \nMonday\, March 17\,2025 7:00pm\n(Zoom Only Meeting)\n\nhttps://www.artquilters.org/heather-pregger/
URL:https://www.artquilters.org/event/frcq-general-meeting-7/
CATEGORIES:Events
END:VEVENT
END:VCALENDAR