BEGIN:VCALENDAR
VERSION:2.0
PRODID:-//FRCQ | Art Quilters - ECPv6.15.17.1//NONSGML v1.0//EN
CALSCALE:GREGORIAN
METHOD:PUBLISH
X-ORIGINAL-URL:https://www.artquilters.org
X-WR-CALDESC:Events for FRCQ | Art Quilters
REFRESH-INTERVAL;VALUE=DURATION:PT1H
X-Robots-Tag:noindex
X-PUBLISHED-TTL:PT1H
BEGIN:VTIMEZONE
TZID:UTC
BEGIN:STANDARD
TZOFFSETFROM:+0000
TZOFFSETTO:+0000
TZNAME:UTC
DTSTART:20240101T000000
END:STANDARD
END:VTIMEZONE
BEGIN:VEVENT
DTSTART;TZID=UTC:20250215T120000
DTEND;TZID=UTC:20250215T150000
DTSTAMP:20260424T164449
CREATED:20241104T000135Z
LAST-MODIFIED:20241121T233752Z
UID:39714-1739620800-1739631600@www.artquilters.org
SUMMARY:Mini-Retreat
DESCRIPTION:Mini-Retreat on Saturday\, February 15\, 2025\, 12:00 to 3:00 pm\nBoy Scouts of America – 10455 E 6th Ave\, Lakewood \nLet’s gather again for a chance to meet in person and enjoy visiting and sharing our work!! Bring whatever you want to work on. \nCome enjoy some camaraderie with friends!
URL:https://www.artquilters.org/event/mini-retreat-3/
CATEGORIES:Events
END:VEVENT
BEGIN:VEVENT
DTSTART;TZID=UTC:20250217T190000
DTEND;TZID=UTC:20250217T210000
DTSTAMP:20260424T164449
CREATED:20241104T000321Z
LAST-MODIFIED:20241104T000349Z
UID:39716-1739818800-1739826000@www.artquilters.org
SUMMARY:FRCQ General Meeting
DESCRIPTION:Cindy Grisdela: Anatomy of an Improve Quilt \nMonday\, February 17\, 2025 7:00pm\n(Zoom Only Meeting)\n\nhttps://www.artquilters.org/cindy-grisdela-anatomy-of-an-improve-quilt/
URL:https://www.artquilters.org/event/frcq-general-meeting-6/
CATEGORIES:Events
END:VEVENT
BEGIN:VEVENT
DTSTART;TZID=UTC:20250222T090000
DTEND;TZID=UTC:20250222T160000
DTSTAMP:20260424T164449
CREATED:20241104T000541Z
LAST-MODIFIED:20241104T000617Z
UID:39718-1740214800-1740240000@www.artquilters.org
SUMMARY:Diana Fox Workshop
DESCRIPTION:https://www.artquilters.org/diana-fox-workshop-1-day/
URL:https://www.artquilters.org/event/diana-fox-workshop/
CATEGORIES:Events
END:VEVENT
END:VCALENDAR