BEGIN:VCALENDAR
VERSION:2.0
PRODID:-//FRCQ | Art Quilters - ECPv6.15.17.1//NONSGML v1.0//EN
CALSCALE:GREGORIAN
METHOD:PUBLISH
X-ORIGINAL-URL:https://www.artquilters.org
X-WR-CALDESC:Events for FRCQ | Art Quilters
REFRESH-INTERVAL;VALUE=DURATION:PT1H
X-Robots-Tag:noindex
X-PUBLISHED-TTL:PT1H
BEGIN:VTIMEZONE
TZID:UTC
BEGIN:STANDARD
TZOFFSETFROM:+0000
TZOFFSETTO:+0000
TZNAME:UTC
DTSTART:20230101T000000
END:STANDARD
END:VTIMEZONE
BEGIN:VEVENT
DTSTART;TZID=UTC:20241019T130000
DTEND;TZID=UTC:20241019T160000
DTSTAMP:20260425T031605
CREATED:20241015T191501Z
LAST-MODIFIED:20241015T191501Z
UID:39535-1729342800-1729353600@www.artquilters.org
SUMMARY:Mini Retreat
DESCRIPTION:Mini-Retreat on Saturday\, October 19th\, 1:00 to 4:00 pm\nBoy Scouts of America – 10455 E 6th Ave\, Lakewood \nLet’s gather again for a chance to meet in person and enjoy visiting and sharing our work!! Bring whatever you want to work on. \nBarb Olson will be offering a short (15-20 min) demo of some of the machine stitching techniques from the Paula Kovarik Workshop at our next mini-retreat! \nCome enjoy some camaraderie with friends!
URL:https://www.artquilters.org/event/mini-retreat/
CATEGORIES:Events
END:VEVENT
BEGIN:VEVENT
DTSTART;TZID=UTC:20241021T190000
DTEND;TZID=UTC:20241021T210000
DTSTAMP:20260425T031605
CREATED:20240819T212017Z
LAST-MODIFIED:20240819T212017Z
UID:39496-1729537200-1729544400@www.artquilters.org
SUMMARY:FRCQ General Meeting
DESCRIPTION:Ann Brauer: Imaginary Landscapes\, An Annotated Trunk Show of Recent Quilts \n(Zoom)
URL:https://www.artquilters.org/event/frcq-general-meeting-3/
CATEGORIES:Events
END:VEVENT
END:VCALENDAR