BEGIN:VCALENDAR
VERSION:2.0
PRODID:-//FRCQ | Art Quilters - ECPv6.15.17.1//NONSGML v1.0//EN
CALSCALE:GREGORIAN
METHOD:PUBLISH
X-ORIGINAL-URL:https://www.artquilters.org
X-WR-CALDESC:Events for FRCQ | Art Quilters
REFRESH-INTERVAL;VALUE=DURATION:PT1H
X-Robots-Tag:noindex
X-PUBLISHED-TTL:PT1H
BEGIN:VTIMEZONE
TZID:UTC
BEGIN:STANDARD
TZOFFSETFROM:+0000
TZOFFSETTO:+0000
TZNAME:UTC
DTSTART:20250101T000000
END:STANDARD
END:VTIMEZONE
BEGIN:VEVENT
DTSTART;TZID=UTC:20260718T100000
DTEND;TZID=UTC:20260718T120000
DTSTAMP:20260422T043104
CREATED:20260114T184302Z
LAST-MODIFIED:20260114T184302Z
UID:40320-1784368800-1784376000@www.artquilters.org
SUMMARY:FRCQ General Meeting
DESCRIPTION:In Person Meeting at Boy Scouts of America: 10455 W 6th Ave #100\, Lakewood\, CO 80215  \nhttps://www.artquilters.org/demos-desserts-2/
URL:https://www.artquilters.org/event/frcq-general-meeting-17/
CATEGORIES:Events
END:VEVENT
END:VCALENDAR