BEGIN:VCALENDAR
VERSION:2.0
PRODID:-//FRCQ | Art Quilters - ECPv6.15.17.1//NONSGML v1.0//EN
CALSCALE:GREGORIAN
METHOD:PUBLISH
X-ORIGINAL-URL:https://www.artquilters.org
X-WR-CALDESC:Events for FRCQ | Art Quilters
REFRESH-INTERVAL;VALUE=DURATION:PT1H
X-Robots-Tag:noindex
X-PUBLISHED-TTL:PT1H
BEGIN:VTIMEZONE
TZID:UTC
BEGIN:STANDARD
TZOFFSETFROM:+0000
TZOFFSETTO:+0000
TZNAME:UTC
DTSTART:20250101T000000
END:STANDARD
END:VTIMEZONE
BEGIN:VEVENT
DTSTART;TZID=UTC:20260615T080000
DTEND;TZID=UTC:20260615T170000
DTSTAMP:20260422T030158
CREATED:20260114T185436Z
LAST-MODIFIED:20260114T185436Z
UID:40330-1781510400-1781542800@www.artquilters.org
SUMMARY:Registration Opens 10AM - Donna Weber Workshop
DESCRIPTION:https://www.artquilters.org/donna-weber-architectural-quilting-turning-buildings-bridges-and-other-structures-into-quilts/
URL:https://www.artquilters.org/event/registration-opens-10am-donna-weber-workshop/
CATEGORIES:Events
END:VEVENT
END:VCALENDAR