BEGIN:VCALENDAR
VERSION:2.0
PRODID:-//FRCQ | Art Quilters - ECPv6.15.17.1//NONSGML v1.0//EN
CALSCALE:GREGORIAN
METHOD:PUBLISH
X-WR-CALNAME:FRCQ | Art Quilters
X-ORIGINAL-URL:https://www.artquilters.org
X-WR-CALDESC:Events for FRCQ | Art Quilters
REFRESH-INTERVAL;VALUE=DURATION:PT1H
X-Robots-Tag:noindex
X-PUBLISHED-TTL:PT1H
BEGIN:VTIMEZONE
TZID:UTC
BEGIN:STANDARD
TZOFFSETFROM:+0000
TZOFFSETTO:+0000
TZNAME:UTC
DTSTART:20250101T000000
END:STANDARD
END:VTIMEZONE
BEGIN:VEVENT
DTSTART;TZID=UTC:20260606T090000
DTEND;TZID=UTC:20260607T160000
DTSTAMP:20260422T012843
CREATED:20250617T171419Z
LAST-MODIFIED:20250617T171419Z
UID:40069-1780736400-1780848000@www.artquilters.org
SUMMARY:Cindy Grisdela Workshop
DESCRIPTION:For more information click here:  https://www.artquilters.org/cindy-grisdela-abstracting-from-art/
URL:https://www.artquilters.org/event/cindy-grisdela-workshop/
CATEGORIES:Events
END:VEVENT
END:VCALENDAR