BEGIN:VCALENDAR
VERSION:2.0
PRODID:-//FRCQ | Art Quilters - ECPv6.15.17.1//NONSGML v1.0//EN
CALSCALE:GREGORIAN
METHOD:PUBLISH
X-WR-CALNAME:FRCQ | Art Quilters
X-ORIGINAL-URL:https://www.artquilters.org
X-WR-CALDESC:Events for FRCQ | Art Quilters
REFRESH-INTERVAL;VALUE=DURATION:PT1H
X-Robots-Tag:noindex
X-PUBLISHED-TTL:PT1H
BEGIN:VTIMEZONE
TZID:UTC
BEGIN:STANDARD
TZOFFSETFROM:+0000
TZOFFSETTO:+0000
TZNAME:UTC
DTSTART:20250101T000000
END:STANDARD
END:VTIMEZONE
BEGIN:VEVENT
DTSTART;TZID=UTC:20260321T100000
DTEND;TZID=UTC:20260321T120000
DTSTAMP:20260422T012842
CREATED:20260114T183311Z
LAST-MODIFIED:20260114T183311Z
UID:40311-1774087200-1774094400@www.artquilters.org
SUMMARY:FRCQ General Meeting
DESCRIPTION:FRCQ General Meeting.  Zoom Only.  Active members will be sent a zoom link in the week prior to the meeting via email. \nhttps://www.artquilters.org/heidi-zielinski-three-layers-of-design-my-process/
URL:https://www.artquilters.org/event/frcq-general-meeting-14/
CATEGORIES:Events
END:VEVENT
END:VCALENDAR