BEGIN:VCALENDAR
VERSION:2.0
PRODID:-//FRCQ | Art Quilters - ECPv6.15.17.1//NONSGML v1.0//EN
CALSCALE:GREGORIAN
METHOD:PUBLISH
X-ORIGINAL-URL:https://www.artquilters.org
X-WR-CALDESC:Events for FRCQ | Art Quilters
REFRESH-INTERVAL;VALUE=DURATION:PT1H
X-Robots-Tag:noindex
X-PUBLISHED-TTL:PT1H
BEGIN:VTIMEZONE
TZID:UTC
BEGIN:STANDARD
TZOFFSETFROM:+0000
TZOFFSETTO:+0000
TZNAME:UTC
DTSTART:20240101T000000
END:STANDARD
END:VTIMEZONE
BEGIN:VEVENT
DTSTART;TZID=UTC:20251220T100000
DTEND;TZID=UTC:20251220T120000
DTSTAMP:20260422T055203
CREATED:20241104T003615Z
LAST-MODIFIED:20241104T003615Z
UID:39746-1766224800-1766232000@www.artquilters.org
SUMMARY:No FRCQ General Meeting for December
DESCRIPTION:No FRCQ General Meeting for December
URL:https://www.artquilters.org/event/no-frcq-general-meeting-for-december/
CATEGORIES:Events
END:VEVENT
END:VCALENDAR