BEGIN:VCALENDAR
VERSION:2.0
PRODID:-//FRCQ | Art Quilters - ECPv6.15.17.1//NONSGML v1.0//EN
CALSCALE:GREGORIAN
METHOD:PUBLISH
X-WR-CALNAME:FRCQ | Art Quilters
X-ORIGINAL-URL:https://www.artquilters.org
X-WR-CALDESC:Events for FRCQ | Art Quilters
REFRESH-INTERVAL;VALUE=DURATION:PT1H
X-Robots-Tag:noindex
X-PUBLISHED-TTL:PT1H
BEGIN:VTIMEZONE
TZID:UTC
BEGIN:STANDARD
TZOFFSETFROM:+0000
TZOFFSETTO:+0000
TZNAME:UTC
DTSTART:20240101T000000
END:STANDARD
END:VTIMEZONE
BEGIN:VEVENT
DTSTART;TZID=UTC:20251115T100000
DTEND;TZID=UTC:20251115T120000
DTSTAMP:20260422T071846
CREATED:20241104T003212Z
LAST-MODIFIED:20241104T003212Z
UID:39743-1763200800-1763208000@www.artquilters.org
SUMMARY:FRCQ General Meeting
DESCRIPTION:Joan Sowada: Why Do I Make Art?\n\n\n\n\n\n\n\n\n\n\nSaturday – November 15\, 2025 10:00am\n \nJoan Sowada: Why Do I Make Art? \n(Zoom only) \n\nhttps://www.artquilters.org/joan-sowada-why-do-i-make-art/
URL:https://www.artquilters.org/event/frcq-general-meeting-11/
CATEGORIES:Events
END:VEVENT
BEGIN:VEVENT
DTSTART;TZID=UTC:20251115T120000
DTEND;TZID=UTC:20251115T150000
DTSTAMP:20260422T071846
CREATED:20241121T234649Z
LAST-MODIFIED:20241121T234649Z
UID:39817-1763208000-1763218800@www.artquilters.org
SUMMARY:Mini-Retreat
DESCRIPTION:Mini-Retreat on Saturday\, November 15\, 2025\, 12:00 to 3:00 pm\nBoy Scouts of America – 10455 E 6th Ave\, Lakewood \nLet’s gather again for a chance to meet in person and enjoy visiting and sharing our work!! Bring whatever you want to work on. \nCome enjoy some camaraderie with friends!
URL:https://www.artquilters.org/event/mini-retreat-12/
CATEGORIES:Events
END:VEVENT
END:VCALENDAR