BEGIN:VCALENDAR
VERSION:2.0
PRODID:-//FRCQ | Art Quilters - ECPv6.15.17.1//NONSGML v1.0//EN
CALSCALE:GREGORIAN
METHOD:PUBLISH
X-WR-CALNAME:FRCQ | Art Quilters
X-ORIGINAL-URL:https://www.artquilters.org
X-WR-CALDESC:Events for FRCQ | Art Quilters
REFRESH-INTERVAL;VALUE=DURATION:PT1H
X-Robots-Tag:noindex
X-PUBLISHED-TTL:PT1H
BEGIN:VTIMEZONE
TZID:UTC
BEGIN:STANDARD
TZOFFSETFROM:+0000
TZOFFSETTO:+0000
TZNAME:UTC
DTSTART:20240101T000000
END:STANDARD
END:VTIMEZONE
BEGIN:VEVENT
DTSTART;TZID=UTC:20251024T190000
DTEND;TZID=UTC:20251024T200000
DTSTAMP:20260422T084430
CREATED:20250922T181109Z
LAST-MODIFIED:20250922T181715Z
UID:40121-1761332400-1761336000@www.artquilters.org
SUMMARY:Book Club
DESCRIPTION:Below is our next book!  The Phoenix Crown by Kate Quinn and Janie Chang.\n\nOur Next Meeting is October 24th\, 7:00pm\n\nContact Jo Fitsell (jofitsell@gmail.com if you would like to join us)
URL:https://www.artquilters.org/event/40121/
CATEGORIES:Events
END:VEVENT
END:VCALENDAR