BEGIN:VCALENDAR
VERSION:2.0
PRODID:-//FRCQ | Art Quilters - ECPv6.15.17.1//NONSGML v1.0//EN
CALSCALE:GREGORIAN
METHOD:PUBLISH
X-ORIGINAL-URL:https://www.artquilters.org
X-WR-CALDESC:Events for FRCQ | Art Quilters
REFRESH-INTERVAL;VALUE=DURATION:PT1H
X-Robots-Tag:noindex
X-PUBLISHED-TTL:PT1H
BEGIN:VTIMEZONE
TZID:UTC
BEGIN:STANDARD
TZOFFSETFROM:+0000
TZOFFSETTO:+0000
TZNAME:UTC
DTSTART:20240101T000000
END:STANDARD
END:VTIMEZONE
BEGIN:VEVENT
DTSTART;TZID=UTC:20250823T090000
DTEND;TZID=UTC:20250824T160000
DTSTAMP:20260424T094225
CREATED:20250617T170956Z
LAST-MODIFIED:20250617T170956Z
UID:40064-1755939600-1756051200@www.artquilters.org
SUMMARY:Vicki Conley Workshop
DESCRIPTION:For information click here:  https://www.artquilters.org/vicky-conley-workshop-2-days/
URL:https://www.artquilters.org/event/vicki-conley-workshop/
CATEGORIES:Events
END:VEVENT
END:VCALENDAR