BEGIN:VCALENDAR
VERSION:2.0
PRODID:-//FRCQ | Art Quilters - ECPv6.15.17.1//NONSGML v1.0//EN
CALSCALE:GREGORIAN
METHOD:PUBLISH
X-WR-CALNAME:FRCQ | Art Quilters
X-ORIGINAL-URL:https://www.artquilters.org
X-WR-CALDESC:Events for FRCQ | Art Quilters
REFRESH-INTERVAL;VALUE=DURATION:PT1H
X-Robots-Tag:noindex
X-PUBLISHED-TTL:PT1H
BEGIN:VTIMEZONE
TZID:UTC
BEGIN:STANDARD
TZOFFSETFROM:+0000
TZOFFSETTO:+0000
TZNAME:UTC
DTSTART:20240101T000000
END:STANDARD
END:VTIMEZONE
BEGIN:VEVENT
DTSTART;TZID=UTC:20250411T190000
DTEND;TZID=UTC:20250411T200000
DTSTAMP:20260424T151650
CREATED:20250322T002934Z
LAST-MODIFIED:20250322T002934Z
UID:39975-1744398000-1744401600@www.artquilters.org
SUMMARY:Book Club
DESCRIPTION:April 11th at 7 pm we will review “The Serviceberry” by Robin Wall Kimmerer and “The Gift” by Lewis Hyde. \nTo join our book club\, please contact jofitsell@gmail.com and she will send out the Zoom Link.
URL:https://www.artquilters.org/event/book-club-3/
CATEGORIES:Events
END:VEVENT
END:VCALENDAR