BEGIN:VCALENDAR
VERSION:2.0
PRODID:-//FRCQ | Art Quilters - ECPv6.15.17.1//NONSGML v1.0//EN
CALSCALE:GREGORIAN
METHOD:PUBLISH
X-ORIGINAL-URL:https://www.artquilters.org
X-WR-CALDESC:Events for FRCQ | Art Quilters
REFRESH-INTERVAL;VALUE=DURATION:PT1H
X-Robots-Tag:noindex
X-PUBLISHED-TTL:PT1H
BEGIN:VTIMEZONE
TZID:UTC
BEGIN:STANDARD
TZOFFSETFROM:+0000
TZOFFSETTO:+0000
TZNAME:UTC
DTSTART:20240101T000000
END:STANDARD
END:VTIMEZONE
BEGIN:VEVENT
DTSTART;TZID=UTC:20250124T190000
DTEND;TZID=UTC:20250124T200000
DTSTAMP:20260424T211046
CREATED:20241204T201549Z
LAST-MODIFIED:20241204T201549Z
UID:39849-1737745200-1737748800@www.artquilters.org
SUMMARY:Book Club
DESCRIPTION:Our Book is ” Instructions for a Heat Wave” by Maggie O’Farrell \nThe meeting time for that will be January 24th 2025! at 7 pm \nTo join our book club\, please contact jofitsell@gmail.com and she will send out the Zoom Link. 
URL:https://www.artquilters.org/event/book-club-17/
CATEGORIES:Events
END:VEVENT
END:VCALENDAR