BEGIN:VCALENDAR
VERSION:2.0
PRODID:-//FRCQ | Art Quilters - ECPv6.15.17.1//NONSGML v1.0//EN
CALSCALE:GREGORIAN
METHOD:PUBLISH
X-ORIGINAL-URL:https://www.artquilters.org
X-WR-CALDESC:Events for FRCQ | Art Quilters
REFRESH-INTERVAL;VALUE=DURATION:PT1H
X-Robots-Tag:noindex
X-PUBLISHED-TTL:PT1H
BEGIN:VTIMEZONE
TZID:UTC
BEGIN:STANDARD
TZOFFSETFROM:+0000
TZOFFSETTO:+0000
TZNAME:UTC
DTSTART:20230101T000000
END:STANDARD
END:VTIMEZONE
BEGIN:VEVENT
DTSTART;TZID=UTC:20241213T190000
DTEND;TZID=UTC:20241213T200000
DTSTAMP:20260424T224116
CREATED:20241204T200537Z
LAST-MODIFIED:20241204T200845Z
UID:39840-1734116400-1734120000@www.artquilters.org
SUMMARY:Book Club
DESCRIPTION:The next Meeting will be Friday\, December 13th at 7 pm. \nOur next book will be “The Secret Life of Sunflowers” by Marta Molnar. She was Vincent Van Gogh’s sister in law. \nTo join our book club\, please contact jofitsell@gmail.com and she will send you the Zoom Link.  \n  \n 
URL:https://www.artquilters.org/event/book-club-16/
CATEGORIES:Events
END:VEVENT
END:VCALENDAR