BEGIN:VCALENDAR
VERSION:2.0
PRODID:-//FRCQ | Art Quilters - ECPv6.15.17.1//NONSGML v1.0//EN
CALSCALE:GREGORIAN
METHOD:PUBLISH
X-WR-CALNAME:FRCQ | Art Quilters
X-ORIGINAL-URL:https://www.artquilters.org
X-WR-CALDESC:Events for FRCQ | Art Quilters
REFRESH-INTERVAL;VALUE=DURATION:PT1H
X-Robots-Tag:noindex
X-PUBLISHED-TTL:PT1H
BEGIN:VTIMEZONE
TZID:UTC
BEGIN:STANDARD
TZOFFSETFROM:+0000
TZOFFSETTO:+0000
TZNAME:UTC
DTSTART:20230101T000000
END:STANDARD
END:VTIMEZONE
BEGIN:VEVENT
DTSTART;TZID=UTC:20241108T190000
DTEND;TZID=UTC:20241108T200000
DTSTAMP:20260425T031014
CREATED:20241004T021650Z
LAST-MODIFIED:20241004T021925Z
UID:39526-1731092400-1731096000@www.artquilters.org
SUMMARY:Book Club
DESCRIPTION:November 8\, 2024\, 7 pmTopic: Book Club \n\n\n\nMeeting ID:  853 6607 5322\nPasscode:  170114\n\n\n\n\n\n\n\n\n\n\n\n\n \n\n\n\n\n\n\n\n\n\n\n Invite Link\n \n https://us06web.zoom.us/j/85366075322?pwd=0WS7DMtja0NcvfnpClayWwpZHgb6RX.1 \n\n\n\n\n\n\n\nThe Book is: The Dictionary of Lost Words by Pip Williams\n\n\nNEW YORK TIMES BESTSELLER • REESE’S BOOK CLUB PICK • “Delightful . . . [a] captivating and slyly subversive fictional paean to the real women whose work on the Oxford English Dictionarywent largely unheralded.”—The New York Times Book Review\n\n“A marvelous fiction about the power of language to elevate or repress.”—Geraldine Brooks\, New York Times bestselling author of People of the Book \nEsme is born into a world of words. Motherless and irrepressibly curious\, she spends her childhood in the Scriptorium\, an Oxford garden shed in which her father and a team of dedicated lexicographers are collecting words for the very first Oxford English Dictionary. Young Esme’s place is beneath the sorting table\, unseen and unheard. One day a slip of paper containing the word bondmaid flutters beneath the table. She rescues the slip and\, learning that the word means “slave girl\,” begins to collect other words that have been discarded or neglected by the dictionary men. \n\n\n\n\n 
URL:https://www.artquilters.org/event/book-club-15/
CATEGORIES:Events
END:VEVENT
END:VCALENDAR